BEGIN:VCALENDAR
VERSION:2.0
PRODID:-//Park Day School - ECPv6.15.20//NONSGML v1.0//EN
CALSCALE:GREGORIAN
METHOD:PUBLISH
X-WR-CALNAME:Park Day School
X-ORIGINAL-URL:https://www.parkdayschool.org
X-WR-CALDESC:Events for Park Day School
REFRESH-INTERVAL;VALUE=DURATION:PT1H
X-Robots-Tag:noindex
X-PUBLISHED-TTL:PT1H
BEGIN:VTIMEZONE
TZID:America/Los_Angeles
BEGIN:DAYLIGHT
TZOFFSETFROM:-0800
TZOFFSETTO:-0700
TZNAME:PDT
DTSTART:20240310T100000
END:DAYLIGHT
BEGIN:STANDARD
TZOFFSETFROM:-0700
TZOFFSETTO:-0800
TZNAME:PST
DTSTART:20241103T090000
END:STANDARD
BEGIN:DAYLIGHT
TZOFFSETFROM:-0800
TZOFFSETTO:-0700
TZNAME:PDT
DTSTART:20250309T100000
END:DAYLIGHT
BEGIN:STANDARD
TZOFFSETFROM:-0700
TZOFFSETTO:-0800
TZNAME:PST
DTSTART:20251102T090000
END:STANDARD
BEGIN:DAYLIGHT
TZOFFSETFROM:-0800
TZOFFSETTO:-0700
TZNAME:PDT
DTSTART:20260308T100000
END:DAYLIGHT
BEGIN:STANDARD
TZOFFSETFROM:-0700
TZOFFSETTO:-0800
TZNAME:PST
DTSTART:20261101T090000
END:STANDARD
BEGIN:DAYLIGHT
TZOFFSETFROM:-0800
TZOFFSETTO:-0700
TZNAME:PDT
DTSTART:20270314T100000
END:DAYLIGHT
BEGIN:STANDARD
TZOFFSETFROM:-0700
TZOFFSETTO:-0800
TZNAME:PST
DTSTART:20271107T090000
END:STANDARD
END:VTIMEZONE
BEGIN:VEVENT
DTSTART;VALUE=DATE:20251222
DTEND;VALUE=DATE:20260103
DTSTAMP:20260423T015515
CREATED:20250611T054305Z
LAST-MODIFIED:20260102T205815Z
UID:10001432-1766361600-1767398399@www.parkdayschool.org
SUMMARY:Winter Break
DESCRIPTION:
URL:https://www.parkdayschool.org/event/winter-break-8/
END:VEVENT
BEGIN:VEVENT
DTSTART;VALUE=DATE:20260105
DTEND;VALUE=DATE:20260106
DTSTAMP:20260423T015515
CREATED:20250118T032744Z
LAST-MODIFIED:20260105T211221Z
UID:10001420-1767571200-1767657599@www.parkdayschool.org
SUMMARY:Progress Report Writing Day - No School\, Camp Available
DESCRIPTION:
URL:https://www.parkdayschool.org/event/progress-report-writing-day-no-school-camp-available-2/
END:VEVENT
BEGIN:VEVENT
DTSTART;VALUE=DATE:20260106
DTEND;VALUE=DATE:20260107
DTSTAMP:20260423T015515
CREATED:20250118T032744Z
LAST-MODIFIED:20260106T211408Z
UID:10001421-1767657600-1767743999@www.parkdayschool.org
SUMMARY:School Resumes
DESCRIPTION:
URL:https://www.parkdayschool.org/event/school-resumes-10/
END:VEVENT
BEGIN:VEVENT
DTSTART;VALUE=DATE:20260119
DTEND;VALUE=DATE:20260120
DTSTAMP:20260423T015515
CREATED:20250122T042947Z
LAST-MODIFIED:20260119T232714Z
UID:10001427-1768780800-1768867199@www.parkdayschool.org
SUMMARY:Dr. Martin Luther King Jr’s Birthday observed - No School\, No Camp
DESCRIPTION:
URL:https://www.parkdayschool.org/event/dr-martin-luther-king-jrs-birthday-observed-no-school-no-camp-13/
END:VEVENT
END:VCALENDAR