BEGIN:VCALENDAR
VERSION:2.0
PRODID:-//Park Day School - ECPv6.15.20//NONSGML v1.0//EN
CALSCALE:GREGORIAN
METHOD:PUBLISH
X-WR-CALNAME:Park Day School
X-ORIGINAL-URL:https://www.parkdayschool.org
X-WR-CALDESC:Events for Park Day School
REFRESH-INTERVAL;VALUE=DURATION:PT1H
X-Robots-Tag:noindex
X-PUBLISHED-TTL:PT1H
BEGIN:VTIMEZONE
TZID:America/Los_Angeles
BEGIN:DAYLIGHT
TZOFFSETFROM:-0800
TZOFFSETTO:-0700
TZNAME:PDT
DTSTART:20210314T100000
END:DAYLIGHT
BEGIN:STANDARD
TZOFFSETFROM:-0700
TZOFFSETTO:-0800
TZNAME:PST
DTSTART:20211107T090000
END:STANDARD
BEGIN:DAYLIGHT
TZOFFSETFROM:-0800
TZOFFSETTO:-0700
TZNAME:PDT
DTSTART:20220313T100000
END:DAYLIGHT
BEGIN:STANDARD
TZOFFSETFROM:-0700
TZOFFSETTO:-0800
TZNAME:PST
DTSTART:20221106T090000
END:STANDARD
BEGIN:DAYLIGHT
TZOFFSETFROM:-0800
TZOFFSETTO:-0700
TZNAME:PDT
DTSTART:20230312T100000
END:DAYLIGHT
BEGIN:STANDARD
TZOFFSETFROM:-0700
TZOFFSETTO:-0800
TZNAME:PST
DTSTART:20231105T090000
END:STANDARD
BEGIN:DAYLIGHT
TZOFFSETFROM:-0800
TZOFFSETTO:-0700
TZNAME:PDT
DTSTART:20240310T100000
END:DAYLIGHT
BEGIN:STANDARD
TZOFFSETFROM:-0700
TZOFFSETTO:-0800
TZNAME:PST
DTSTART:20241103T090000
END:STANDARD
END:VTIMEZONE
BEGIN:VEVENT
DTSTART;VALUE=DATE:20221219
DTEND;VALUE=DATE:20230103
DTSTAMP:20260420T223731
CREATED:20220111T183150Z
LAST-MODIFIED:20230102T100018Z
UID:10001200-1671408000-1672703999@www.parkdayschool.org
SUMMARY:Winter Break
DESCRIPTION:
URL:https://www.parkdayschool.org/event/winter-break/
END:VEVENT
BEGIN:VEVENT
DTSTART;VALUE=DATE:20221216
DTEND;VALUE=DATE:20221217
DTSTAMP:20260420T223731
CREATED:20220126T204127Z
LAST-MODIFIED:20221215T071209Z
UID:10000942-1671148800-1671235199@www.parkdayschool.org
SUMMARY:Last Day before Winter Break (Full Day)
DESCRIPTION:
URL:https://www.parkdayschool.org/event/last-day-before-winter-break-full-day/
END:VEVENT
BEGIN:VEVENT
DTSTART;TZID=America/Los_Angeles:20221215T180000
DTEND;TZID=America/Los_Angeles:20221215T210000
DTSTAMP:20260420T223731
CREATED:20220813T030119Z
LAST-MODIFIED:20221215T071209Z
UID:10001222-1671127200-1671138000@www.parkdayschool.org
SUMMARY:PDS Board Meeting
DESCRIPTION:
URL:https://www.parkdayschool.org/event/pds-board-meeting-3/
END:VEVENT
BEGIN:VEVENT
DTSTART;VALUE=DATE:20221121
DTEND;VALUE=DATE:20221126
DTSTAMP:20260420T223731
CREATED:20220111T183150Z
LAST-MODIFIED:20221125T041834Z
UID:10001199-1668988800-1669420799@www.parkdayschool.org
SUMMARY:Fall-i-day Break
DESCRIPTION:
URL:https://www.parkdayschool.org/event/fall-i-day-break/
END:VEVENT
BEGIN:VEVENT
DTSTART;TZID=America/Los_Angeles:20221116T180000
DTEND;TZID=America/Los_Angeles:20221116T210000
DTSTAMP:20260420T223731
CREATED:20220813T030119Z
LAST-MODIFIED:20221117T025912Z
UID:10001221-1668621600-1668632400@www.parkdayschool.org
SUMMARY:PDS Board Meeting
DESCRIPTION:
URL:https://www.parkdayschool.org/event/pds-board-meeting-2/
END:VEVENT
BEGIN:VEVENT
DTSTART;VALUE=DATE:20221110
DTEND;VALUE=DATE:20221112
DTSTAMP:20260420T223731
CREATED:20220126T204126Z
LAST-MODIFIED:20221110T013028Z
UID:10000941-1668038400-1668211199@www.parkdayschool.org
SUMMARY:Family-Teacher Conferences - No School\, Camp Available
DESCRIPTION:
URL:https://www.parkdayschool.org/event/family-teacher-conferences-no-school-camp-available-5/
END:VEVENT
BEGIN:VEVENT
DTSTART;TZID=America/Los_Angeles:20221107T180000
DTEND;TZID=America/Los_Angeles:20221107T193000
DTSTAMP:20260420T223731
CREATED:20221008T102952Z
LAST-MODIFIED:20221108T011500Z
UID:10001338-1667844000-1667849400@www.parkdayschool.org
SUMMARY:Parent Ed Session: Park Day hosts Emily Cherkin\, The ScreenTime Consultant
DESCRIPTION:
URL:https://www.parkdayschool.org/event/parent-ed-session-park-day-hosts-emily-cherkin-the-screentime-consultant/
END:VEVENT
BEGIN:VEVENT
DTSTART;TZID=America/Los_Angeles:20221026T160000
DTEND;TZID=America/Los_Angeles:20221026T180000
DTSTAMP:20260420T223731
CREATED:20220916T073129Z
LAST-MODIFIED:20221024T013634Z
UID:10001230-1666800000-1666807200@www.parkdayschool.org
SUMMARY:Cross Country Meet
DESCRIPTION:
URL:https://www.parkdayschool.org/event/cross-country-meet-4/
END:VEVENT
BEGIN:VEVENT
DTSTART;TZID=America/Los_Angeles:20221025T160000
DTEND;TZID=America/Los_Angeles:20221025T180000
DTSTAMP:20260420T223731
CREATED:20220916T073129Z
LAST-MODIFIED:20221024T013633Z
UID:10001229-1666713600-1666720800@www.parkdayschool.org
SUMMARY:Soccer Game: Park Day vs. Julia Morgan
DESCRIPTION:
URL:https://www.parkdayschool.org/event/soccer-game-park-day-vs-julia-morgan/
END:VEVENT
BEGIN:VEVENT
DTSTART;TZID=America/Los_Angeles:20221020T180000
DTEND;TZID=America/Los_Angeles:20221020T210000
DTSTAMP:20260420T223731
CREATED:20220813T030119Z
LAST-MODIFIED:20221021T011349Z
UID:10001220-1666288800-1666299600@www.parkdayschool.org
SUMMARY:PDS Board Meeting
DESCRIPTION:
URL:https://www.parkdayschool.org/event/pds-board-meeting/
END:VEVENT
BEGIN:VEVENT
DTSTART;TZID=America/Los_Angeles:20221020T160000
DTEND;TZID=America/Los_Angeles:20221020T180000
DTSTAMP:20260420T223731
CREATED:20220916T073129Z
LAST-MODIFIED:20221017T002701Z
UID:10001228-1666281600-1666288800@www.parkdayschool.org
SUMMARY:Flag Football Game: Park Day vs. Redwood Day
DESCRIPTION:
URL:https://www.parkdayschool.org/event/flag-football-game-park-day-vs-redwood-day/
END:VEVENT
BEGIN:VEVENT
DTSTART;TZID=America/Los_Angeles:20221019T160000
DTEND;TZID=America/Los_Angeles:20221019T180000
DTSTAMP:20260420T223731
CREATED:20220916T073129Z
LAST-MODIFIED:20221017T002701Z
UID:10000977-1666195200-1666202400@www.parkdayschool.org
SUMMARY:Cross Country Meet
DESCRIPTION:
URL:https://www.parkdayschool.org/event/cross-country-meet-3/
END:VEVENT
BEGIN:VEVENT
DTSTART;TZID=America/Los_Angeles:20221017T160000
DTEND;TZID=America/Los_Angeles:20221017T180000
DTSTAMP:20260420T223731
CREATED:20220916T073129Z
LAST-MODIFIED:20221017T002701Z
UID:10000975-1666022400-1666029600@www.parkdayschool.org
SUMMARY:Soccer Game vs. Julia Morgan
DESCRIPTION:
URL:https://www.parkdayschool.org/event/soccer-game-vs-julia-morgan/
END:VEVENT
BEGIN:VEVENT
DTSTART;TZID=America/Los_Angeles:20221013T160000
DTEND;TZID=America/Los_Angeles:20221013T180000
DTSTAMP:20260420T223731
CREATED:20220916T073129Z
LAST-MODIFIED:20221013T113212Z
UID:10000973-1665676800-1665684000@www.parkdayschool.org
SUMMARY:Flag Football Game: Park Day vs. St. Paul's
DESCRIPTION:
URL:https://www.parkdayschool.org/event/flag-football-game-park-day-vs-st-pauls/
END:VEVENT
BEGIN:VEVENT
DTSTART;TZID=America/Los_Angeles:20221012T160000
DTEND;TZID=America/Los_Angeles:20221012T180000
DTSTAMP:20260420T223731
CREATED:20220916T073129Z
LAST-MODIFIED:20221012T112907Z
UID:10000971-1665590400-1665597600@www.parkdayschool.org
SUMMARY:Cross Country Meet
DESCRIPTION:
URL:https://www.parkdayschool.org/event/cross-country-meet-2/
END:VEVENT
BEGIN:VEVENT
DTSTART;VALUE=DATE:20221011
DTEND;VALUE=DATE:20221012
DTSTAMP:20260420T223731
CREATED:20220126T204126Z
LAST-MODIFIED:20221011T111742Z
UID:10000940-1665446400-1665532799@www.parkdayschool.org
SUMMARY:Professional Development Day-No School\, Camp Available
DESCRIPTION:
URL:https://www.parkdayschool.org/event/professional-development-day-no-school-camp-available-7/
END:VEVENT
BEGIN:VEVENT
DTSTART;VALUE=DATE:20221010
DTEND;VALUE=DATE:20221011
DTSTAMP:20260420T223731
CREATED:20220126T204126Z
LAST-MODIFIED:20221010T110019Z
UID:10000939-1665360000-1665446399@www.parkdayschool.org
SUMMARY:Indigenous Peoples Day - No School\, No Camp
DESCRIPTION:
URL:https://www.parkdayschool.org/event/indigenous-peoples-day-no-school-no-camp-3/
END:VEVENT
BEGIN:VEVENT
DTSTART;TZID=America/Los_Angeles:20221004T160000
DTEND;TZID=America/Los_Angeles:20221004T180000
DTSTAMP:20260420T223731
CREATED:20220916T073128Z
LAST-MODIFIED:20221005T095649Z
UID:10000967-1664899200-1664906400@www.parkdayschool.org
SUMMARY:Flag Football Game: Park Day vs. Raskob
DESCRIPTION:
URL:https://www.parkdayschool.org/event/flag-football-game-park-day-vs-raskob/
END:VEVENT
BEGIN:VEVENT
DTSTART;TZID=America/Los_Angeles:20221004T160000
DTEND;TZID=America/Los_Angeles:20221004T180000
DTSTAMP:20260420T223731
CREATED:20220916T073128Z
LAST-MODIFIED:20221005T095648Z
UID:10000969-1664899200-1664906400@www.parkdayschool.org
SUMMARY:Soccer Game: Park Day vs. Yu Ming
DESCRIPTION:
URL:https://www.parkdayschool.org/event/soccer-game-park-day-vs-yu-ming/
END:VEVENT
BEGIN:VEVENT
DTSTART;TZID=America/Los_Angeles:20220929T160000
DTEND;TZID=America/Los_Angeles:20220929T180000
DTSTAMP:20260420T223731
CREATED:20220927T083244Z
LAST-MODIFIED:20220927T083244Z
UID:10001233-1664467200-1664474400@www.parkdayschool.org
SUMMARY:Flag Football Game: Park Day vs. Athenian
DESCRIPTION:
URL:https://www.parkdayschool.org/event/flag-football-game-park-day-vs-athenian-2/
END:VEVENT
BEGIN:VEVENT
DTSTART;TZID=America/Los_Angeles:20220928T160000
DTEND;TZID=America/Los_Angeles:20220928T180000
DTSTAMP:20260420T223731
CREATED:20220916T073128Z
LAST-MODIFIED:20220926T083036Z
UID:10000963-1664380800-1664388000@www.parkdayschool.org
SUMMARY:Cross Country Meet
DESCRIPTION:
URL:https://www.parkdayschool.org/event/cross-country-meet/
END:VEVENT
BEGIN:VEVENT
DTSTART;TZID=America/Los_Angeles:20220924T090000
DTEND;TZID=America/Los_Angeles:20220924T150000
DTSTAMP:20260420T223731
CREATED:20220813T030119Z
LAST-MODIFIED:20220924T082040Z
UID:10001219-1664010000-1664031600@www.parkdayschool.org
SUMMARY:PDS Board Retreat
DESCRIPTION:
URL:https://www.parkdayschool.org/event/pds-board-retreat/
END:VEVENT
BEGIN:VEVENT
DTSTART;VALUE=DATE:20220923
DTEND;VALUE=DATE:20220924
DTSTAMP:20260420T223731
CREATED:20220514T074103Z
LAST-MODIFIED:20220923T081344Z
UID:10001214-1663891200-1663977599@www.parkdayschool.org
SUMMARY:5-8 Picture Day w/Roots & Shoots
DESCRIPTION:
URL:https://www.parkdayschool.org/event/5-8-picture-day-w-roots-shoots/
END:VEVENT
BEGIN:VEVENT
DTSTART;VALUE=DATE:20220922
DTEND;VALUE=DATE:20220923
DTSTAMP:20260420T223731
CREATED:20220514T074103Z
LAST-MODIFIED:20220922T081130Z
UID:10001213-1663804800-1663891199@www.parkdayschool.org
SUMMARY:K-4 Picture Day w/Roots & Shoots
DESCRIPTION:
URL:https://www.parkdayschool.org/event/k-4-picture-day-w-roots-shoots/
END:VEVENT
BEGIN:VEVENT
DTSTART;TZID=America/Los_Angeles:20220905T080000
DTEND;TZID=America/Los_Angeles:20220905T082500
DTSTAMP:20260420T223731
CREATED:20220126T204126Z
LAST-MODIFIED:20220905T051234Z
UID:10001208-1662364800-1662366300@www.parkdayschool.org
SUMMARY:Labor Day - No School\, No Camp
DESCRIPTION:
URL:https://www.parkdayschool.org/event/labor-day-no-school-no-camp-2/
END:VEVENT
BEGIN:VEVENT
DTSTART;VALUE=DATE:20220831
DTEND;VALUE=DATE:20220901
DTSTAMP:20260420T223731
CREATED:20220111T183150Z
LAST-MODIFIED:20220831T045807Z
UID:10000938-1661904000-1661990399@www.parkdayschool.org
SUMMARY:First Day of School
DESCRIPTION:
URL:https://www.parkdayschool.org/event/first-day-of-school-2/
END:VEVENT
BEGIN:VEVENT
DTSTART;TZID=America/Los_Angeles:20220825T161500
DTEND;TZID=America/Los_Angeles:20220825T183000
DTSTAMP:20260420T223731
CREATED:20220624T163750Z
LAST-MODIFIED:20220624T163750Z
UID:10001217-1661444100-1661452200@www.parkdayschool.org
SUMMARY:New Family Orientation & Dinner
DESCRIPTION:
URL:https://www.parkdayschool.org/event/new-family-orientation-dinner/
END:VEVENT
BEGIN:VEVENT
DTSTART;TZID=America/Los_Angeles:20220825T161500
DTEND;TZID=America/Los_Angeles:20220825T170000
DTSTAMP:20260420T223731
CREATED:20220126T204126Z
LAST-MODIFIED:20220624T163340Z
UID:10001207-1661444100-1661446800@www.parkdayschool.org
SUMMARY:Kindergarten Campus Visits
DESCRIPTION:
URL:https://www.parkdayschool.org/event/kindergarten-campus-visits/
END:VEVENT
BEGIN:VEVENT
DTSTART;TZID=America/Los_Angeles:20220821T150000
DTEND;TZID=America/Los_Angeles:20220821T203000
DTSTAMP:20260420T223731
CREATED:20220813T030118Z
LAST-MODIFIED:20220821T034453Z
UID:10001218-1661094000-1661113800@www.parkdayschool.org
SUMMARY:PDS New Trustee Orientation
DESCRIPTION:
URL:https://www.parkdayschool.org/event/pds-new-trustee-orientation/
END:VEVENT
BEGIN:VEVENT
DTSTART;TZID=America/Los_Angeles:20220608T120000
DTEND;TZID=America/Los_Angeles:20220608T180000
DTSTAMP:20260420T223731
CREATED:20220517T074526Z
LAST-MODIFIED:20220608T111238Z
UID:10001215-1654689600-1654711200@www.parkdayschool.org
SUMMARY:School Dismissal at 12pm\, no ASAP
DESCRIPTION:
URL:https://www.parkdayschool.org/event/school-dismissal-at-12pm-no-asap/
END:VEVENT
END:VCALENDAR