BEGIN:VCALENDAR
VERSION:2.0
PRODID:-//Park Day School - ECPv6.15.20//NONSGML v1.0//EN
CALSCALE:GREGORIAN
METHOD:PUBLISH
X-ORIGINAL-URL:https://www.parkdayschool.org
X-WR-CALDESC:Events for Park Day School
REFRESH-INTERVAL;VALUE=DURATION:PT1H
X-Robots-Tag:noindex
X-PUBLISHED-TTL:PT1H
BEGIN:VTIMEZONE
TZID:America/Los_Angeles
BEGIN:DAYLIGHT
TZOFFSETFROM:-0800
TZOFFSETTO:-0700
TZNAME:PDT
DTSTART:20200308T100000
END:DAYLIGHT
BEGIN:STANDARD
TZOFFSETFROM:-0700
TZOFFSETTO:-0800
TZNAME:PST
DTSTART:20201101T090000
END:STANDARD
BEGIN:DAYLIGHT
TZOFFSETFROM:-0800
TZOFFSETTO:-0700
TZNAME:PDT
DTSTART:20210314T100000
END:DAYLIGHT
BEGIN:STANDARD
TZOFFSETFROM:-0700
TZOFFSETTO:-0800
TZNAME:PST
DTSTART:20211107T090000
END:STANDARD
BEGIN:DAYLIGHT
TZOFFSETFROM:-0800
TZOFFSETTO:-0700
TZNAME:PDT
DTSTART:20220313T100000
END:DAYLIGHT
BEGIN:STANDARD
TZOFFSETFROM:-0700
TZOFFSETTO:-0800
TZNAME:PST
DTSTART:20221106T090000
END:STANDARD
BEGIN:DAYLIGHT
TZOFFSETFROM:-0800
TZOFFSETTO:-0700
TZNAME:PDT
DTSTART:20230312T100000
END:DAYLIGHT
BEGIN:STANDARD
TZOFFSETFROM:-0700
TZOFFSETTO:-0800
TZNAME:PST
DTSTART:20231105T090000
END:STANDARD
END:VTIMEZONE
BEGIN:VEVENT
DTSTART;VALUE=DATE:20220922
DTEND;VALUE=DATE:20220923
DTSTAMP:20260421T140920
CREATED:20220514T074103Z
LAST-MODIFIED:20220922T081130Z
UID:10001213-1663804800-1663891199@www.parkdayschool.org
SUMMARY:K-4 Picture Day w/Roots & Shoots
DESCRIPTION:
URL:https://www.parkdayschool.org/event/k-4-picture-day-w-roots-shoots/
END:VEVENT
BEGIN:VEVENT
DTSTART;TZID=America/Los_Angeles:20220905T080000
DTEND;TZID=America/Los_Angeles:20220905T082500
DTSTAMP:20260421T140920
CREATED:20220126T204126Z
LAST-MODIFIED:20220905T051234Z
UID:10001208-1662364800-1662366300@www.parkdayschool.org
SUMMARY:Labor Day - No School\, No Camp
DESCRIPTION:
URL:https://www.parkdayschool.org/event/labor-day-no-school-no-camp-2/
END:VEVENT
BEGIN:VEVENT
DTSTART;VALUE=DATE:20220831
DTEND;VALUE=DATE:20220901
DTSTAMP:20260421T140920
CREATED:20220111T183150Z
LAST-MODIFIED:20220831T045807Z
UID:10000938-1661904000-1661990399@www.parkdayschool.org
SUMMARY:First Day of School
DESCRIPTION:
URL:https://www.parkdayschool.org/event/first-day-of-school-2/
END:VEVENT
BEGIN:VEVENT
DTSTART;TZID=America/Los_Angeles:20220825T161500
DTEND;TZID=America/Los_Angeles:20220825T183000
DTSTAMP:20260421T140920
CREATED:20220624T163750Z
LAST-MODIFIED:20220624T163750Z
UID:10001217-1661444100-1661452200@www.parkdayschool.org
SUMMARY:New Family Orientation & Dinner
DESCRIPTION:
URL:https://www.parkdayschool.org/event/new-family-orientation-dinner/
END:VEVENT
BEGIN:VEVENT
DTSTART;TZID=America/Los_Angeles:20220825T161500
DTEND;TZID=America/Los_Angeles:20220825T170000
DTSTAMP:20260421T140920
CREATED:20220126T204126Z
LAST-MODIFIED:20220624T163340Z
UID:10001207-1661444100-1661446800@www.parkdayschool.org
SUMMARY:Kindergarten Campus Visits
DESCRIPTION:
URL:https://www.parkdayschool.org/event/kindergarten-campus-visits/
END:VEVENT
BEGIN:VEVENT
DTSTART;TZID=America/Los_Angeles:20220821T150000
DTEND;TZID=America/Los_Angeles:20220821T203000
DTSTAMP:20260421T140920
CREATED:20220813T030118Z
LAST-MODIFIED:20220821T034453Z
UID:10001218-1661094000-1661113800@www.parkdayschool.org
SUMMARY:PDS New Trustee Orientation
DESCRIPTION:
URL:https://www.parkdayschool.org/event/pds-new-trustee-orientation/
END:VEVENT
BEGIN:VEVENT
DTSTART;TZID=America/Los_Angeles:20220608T120000
DTEND;TZID=America/Los_Angeles:20220608T180000
DTSTAMP:20260421T140920
CREATED:20220517T074526Z
LAST-MODIFIED:20220608T111238Z
UID:10001215-1654689600-1654711200@www.parkdayschool.org
SUMMARY:School Dismissal at 12pm\, no ASAP
DESCRIPTION:
URL:https://www.parkdayschool.org/event/school-dismissal-at-12pm-no-asap/
END:VEVENT
BEGIN:VEVENT
DTSTART;VALUE=DATE:20220608
DTEND;VALUE=DATE:20220609
DTSTAMP:20260421T140920
CREATED:20210506T182821Z
LAST-MODIFIED:20220608T111238Z
UID:10001185-1654646400-1654732799@www.parkdayschool.org
SUMMARY:Last Day of School (noon release)
DESCRIPTION:
URL:https://www.parkdayschool.org/event/last-day-of-school-noon-release/
END:VEVENT
BEGIN:VEVENT
DTSTART;TZID=America/Los_Angeles:20220607T160000
DTEND;TZID=America/Los_Angeles:20220607T180000
DTSTAMP:20260421T140920
CREATED:20220111T183150Z
LAST-MODIFIED:20220607T111121Z
UID:10000937-1654617600-1654624800@www.parkdayschool.org
SUMMARY:8th Grade Graduation
DESCRIPTION:
URL:https://www.parkdayschool.org/event/8th-grade-graduation/
END:VEVENT
BEGIN:VEVENT
DTSTART;VALUE=DATE:20220530
DTEND;VALUE=DATE:20220531
DTSTAMP:20260421T140920
CREATED:20210506T182821Z
LAST-MODIFIED:20220530T101141Z
UID:10001183-1653868800-1653955199@www.parkdayschool.org
SUMMARY:Memorial Day- No School\, No Camp
DESCRIPTION:
URL:https://www.parkdayschool.org/event/memorial-day-no-school-no-camp-2/
END:VEVENT
BEGIN:VEVENT
DTSTART;TZID=America/Los_Angeles:20220521T103000
DTEND;TZID=America/Los_Angeles:20220521T160000
DTSTAMP:20260421T140920
CREATED:20210624T211331Z
LAST-MODIFIED:20220502T194705Z
UID:10001197-1653129000-1653148800@www.parkdayschool.org
SUMMARY:Picnic & Ice Cream Social
DESCRIPTION:
URL:https://www.parkdayschool.org/event/picnic-ice-cream-social/
END:VEVENT
BEGIN:VEVENT
DTSTART;TZID=America/Los_Angeles:20220512T113000
DTEND;TZID=America/Los_Angeles:20220512T123000
DTSTAMP:20260421T140920
CREATED:20220504T065728Z
LAST-MODIFIED:20220512T073348Z
UID:10001212-1652355000-1652358600@www.parkdayschool.org
SUMMARY:K-4 Orientation (2022-2023 New Families)
DESCRIPTION:
URL:https://www.parkdayschool.org/event/k-4-orientation-2022-2023-new-families/
END:VEVENT
BEGIN:VEVENT
DTSTART;TZID=America/Los_Angeles:20220511T113000
DTEND;TZID=America/Los_Angeles:20220511T123000
DTSTAMP:20260421T140920
CREATED:20220504T065728Z
LAST-MODIFIED:20220511T073116Z
UID:10001211-1652268600-1652272200@www.parkdayschool.org
SUMMARY:Middle School Orientation (2022-2023 New Families)
DESCRIPTION:
URL:https://www.parkdayschool.org/event/middle-school-orientation-2022-2023-new-families/
END:VEVENT
BEGIN:VEVENT
DTSTART;VALUE=DATE:20220418
DTEND;VALUE=DATE:20220423
DTSTAMP:20260421T140920
CREATED:20210506T182820Z
LAST-MODIFIED:20220422T061611Z
UID:10001182-1650240000-1650671999@www.parkdayschool.org
SUMMARY:Spring Break- No School\, Camp Available
DESCRIPTION:
URL:https://www.parkdayschool.org/event/spring-break-no-school-camp-available-2/
END:VEVENT
BEGIN:VEVENT
DTSTART;VALUE=DATE:20220324
DTEND;VALUE=DATE:20220326
DTSTAMP:20260421T140920
CREATED:20210506T182820Z
LAST-MODIFIED:20220325T044135Z
UID:10001181-1648080000-1648252799@www.parkdayschool.org
SUMMARY:Family- Teacher Conferences- No School\, Camp Available
DESCRIPTION:
URL:https://www.parkdayschool.org/event/family-teacher-conferences-no-school-camp-available-4/
END:VEVENT
BEGIN:VEVENT
DTSTART;VALUE=DATE:20220311
DTEND;VALUE=DATE:20220312
DTSTAMP:20260421T140920
CREATED:20210624T211331Z
LAST-MODIFIED:20220311T035226Z
UID:10001191-1646956800-1647043199@www.parkdayschool.org
SUMMARY:Read-a-Thon Day
DESCRIPTION:
URL:https://www.parkdayschool.org/event/read-a-thon-day/
END:VEVENT
BEGIN:VEVENT
DTSTART;VALUE=DATE:20220222
DTEND;VALUE=DATE:20220226
DTSTAMP:20260421T140920
CREATED:20210506T182820Z
LAST-MODIFIED:20220225T022606Z
UID:10001180-1645488000-1645833599@www.parkdayschool.org
SUMMARY:February Break- No School\, Camp Available
DESCRIPTION:
URL:https://www.parkdayschool.org/event/february-break-no-school-camp-available-2/
END:VEVENT
BEGIN:VEVENT
DTSTART;VALUE=DATE:20220221
DTEND;VALUE=DATE:20220222
DTSTAMP:20260421T140920
CREATED:20210506T182820Z
LAST-MODIFIED:20220221T015702Z
UID:10001179-1645401600-1645487999@www.parkdayschool.org
SUMMARY:President's Day- No School\, No Camp
DESCRIPTION:
URL:https://www.parkdayschool.org/event/presidents-day-no-school-no-camp-2/
END:VEVENT
BEGIN:VEVENT
DTSTART;VALUE=DATE:20220211
DTEND;VALUE=DATE:20220212
DTSTAMP:20260421T140921
CREATED:20210506T182820Z
LAST-MODIFIED:20220210T233417Z
UID:10001178-1644537600-1644623999@www.parkdayschool.org
SUMMARY:Professional Development Day- No School\, Camp Available
DESCRIPTION:
URL:https://www.parkdayschool.org/event/professional-development-day-no-school-camp-available-6/
END:VEVENT
BEGIN:VEVENT
DTSTART;TZID=America/Los_Angeles:20220210T183000
DTEND;TZID=America/Los_Angeles:20220210T193000
DTSTAMP:20260421T140921
CREATED:20220111T183149Z
LAST-MODIFIED:20220210T233417Z
UID:10000936-1644517800-1644521400@www.parkdayschool.org
SUMMARY:Alumni Zoom Panel for applicant families
DESCRIPTION:
URL:https://www.parkdayschool.org/event/alumni-zoom-panel-for-applicant-families/
END:VEVENT
BEGIN:VEVENT
DTSTART;TZID=America/Los_Angeles:20220205T100000
DTEND;TZID=America/Los_Angeles:20220205T123000
DTSTAMP:20260421T140921
CREATED:20210624T211330Z
LAST-MODIFIED:20220205T224134Z
UID:10001189-1644055200-1644064200@www.parkdayschool.org
SUMMARY:Admissions Kindergarten Playground Playdate
DESCRIPTION:
URL:https://www.parkdayschool.org/event/admissions-kindergarten-visit-day-2/
END:VEVENT
BEGIN:VEVENT
DTSTART;TZID=America/Los_Angeles:20220129T090000
DTEND;TZID=America/Los_Angeles:20220129T123000
DTSTAMP:20260421T140921
CREATED:20220111T183149Z
LAST-MODIFIED:20220128T205629Z
UID:10000935-1643446800-1643459400@www.parkdayschool.org
SUMMARY:Admissions Middle School Assessment/Visit Day
DESCRIPTION:
URL:https://www.parkdayschool.org/event/admissions-middle-school-assessment-visit-day/
END:VEVENT
BEGIN:VEVENT
DTSTART;TZID=America/Los_Angeles:20220121T113000
DTEND;TZID=America/Los_Angeles:20220121T123000
DTSTAMP:20260421T140921
CREATED:20220111T183149Z
LAST-MODIFIED:20220121T195749Z
UID:10000934-1642764600-1642768200@www.parkdayschool.org
SUMMARY:K-8 Information Session (Zoom)
DESCRIPTION:
URL:https://www.parkdayschool.org/event/k-8-information-session-zoom/
LOCATION:https://us02web.zoom.us/j/9327879359
END:VEVENT
BEGIN:VEVENT
DTSTART;VALUE=DATE:20220117
DTEND;VALUE=DATE:20220118
DTSTAMP:20260421T140921
CREATED:20210506T182820Z
LAST-MODIFIED:20220117T193203Z
UID:10001177-1642377600-1642463999@www.parkdayschool.org
SUMMARY:Dr. Martin Luther King Jr.'s Birthday observed- No School\, No Camp
DESCRIPTION:
URL:https://www.parkdayschool.org/event/dr-martin-luther-king-jr-s-birthday-observed-no-school-no-camp/
END:VEVENT
BEGIN:VEVENT
DTSTART;TZID=America/Los_Angeles:20220114T093000
DTEND;TZID=America/Los_Angeles:20220114T100000
DTSTAMP:20260421T140921
CREATED:20220111T183149Z
LAST-MODIFIED:20220113T184342Z
UID:10000933-1642152600-1642154400@www.parkdayschool.org
SUMMARY:Fifth Grade Performance
DESCRIPTION:
URL:https://www.parkdayschool.org/event/fifth-grade-performance/
END:VEVENT
BEGIN:VEVENT
DTSTART;VALUE=DATE:20220104
DTEND;VALUE=DATE:20220105
DTSTAMP:20260421T140921
CREATED:20210506T182820Z
LAST-MODIFIED:20211005T095926Z
UID:10001176-1641254400-1641340799@www.parkdayschool.org
SUMMARY:School Resumes
DESCRIPTION:
URL:https://www.parkdayschool.org/event/school-resumes-2/
END:VEVENT
BEGIN:VEVENT
DTSTART;VALUE=DATE:20220103
DTEND;VALUE=DATE:20220104
DTSTAMP:20260421T140921
CREATED:20210506T182819Z
LAST-MODIFIED:20211005T095926Z
UID:10001175-1641168000-1641254399@www.parkdayschool.org
SUMMARY:Professional Development Day- No School\, Camp Available
DESCRIPTION:
URL:https://www.parkdayschool.org/event/professional-development-day-no-school-camp-available-5/
END:VEVENT
BEGIN:VEVENT
DTSTART;VALUE=DATE:20211220
DTEND;VALUE=DATE:20220101
DTSTAMP:20260421T140921
CREATED:20210506T182819Z
LAST-MODIFIED:20211005T095926Z
UID:10001174-1639958400-1640995199@www.parkdayschool.org
SUMMARY:Winter Break\, No School\, No Camp
DESCRIPTION:
URL:https://www.parkdayschool.org/event/winter-break-no-school-no-camp-2/
END:VEVENT
BEGIN:VEVENT
DTSTART;VALUE=DATE:20211217
DTEND;VALUE=DATE:20211218
DTSTAMP:20260421T140921
CREATED:20210506T182819Z
LAST-MODIFIED:20211005T095926Z
UID:10001173-1639699200-1639785599@www.parkdayschool.org
SUMMARY:Last Day before Winter Break (noon release)
DESCRIPTION:
URL:https://www.parkdayschool.org/event/last-day-before-winter-break-noon-release/
END:VEVENT
BEGIN:VEVENT
DTSTART;VALUE=DATE:20211213
DTEND;VALUE=DATE:20211214
DTSTAMP:20260421T140921
CREATED:20210506T182819Z
LAST-MODIFIED:20211005T095925Z
UID:10001172-1639353600-1639439999@www.parkdayschool.org
SUMMARY:Teacher Work Day- No School\, Camp Available
DESCRIPTION:
URL:https://www.parkdayschool.org/event/teacher-work-day-no-school-camp-available-2/
END:VEVENT
END:VCALENDAR