BEGIN:VCALENDAR
VERSION:2.0
PRODID:-//Park Day School - ECPv6.15.20//NONSGML v1.0//EN
CALSCALE:GREGORIAN
METHOD:PUBLISH
X-WR-CALNAME:Park Day School
X-ORIGINAL-URL:https://www.parkdayschool.org
X-WR-CALDESC:Events for Park Day School
REFRESH-INTERVAL;VALUE=DURATION:PT1H
X-Robots-Tag:noindex
X-PUBLISHED-TTL:PT1H
BEGIN:VTIMEZONE
TZID:America/Los_Angeles
BEGIN:DAYLIGHT
TZOFFSETFROM:-0800
TZOFFSETTO:-0700
TZNAME:PDT
DTSTART:20200308T100000
END:DAYLIGHT
BEGIN:STANDARD
TZOFFSETFROM:-0700
TZOFFSETTO:-0800
TZNAME:PST
DTSTART:20201101T090000
END:STANDARD
BEGIN:DAYLIGHT
TZOFFSETFROM:-0800
TZOFFSETTO:-0700
TZNAME:PDT
DTSTART:20210314T100000
END:DAYLIGHT
BEGIN:STANDARD
TZOFFSETFROM:-0700
TZOFFSETTO:-0800
TZNAME:PST
DTSTART:20211107T090000
END:STANDARD
BEGIN:DAYLIGHT
TZOFFSETFROM:-0800
TZOFFSETTO:-0700
TZNAME:PDT
DTSTART:20220313T100000
END:DAYLIGHT
BEGIN:STANDARD
TZOFFSETFROM:-0700
TZOFFSETTO:-0800
TZNAME:PST
DTSTART:20221106T090000
END:STANDARD
BEGIN:DAYLIGHT
TZOFFSETFROM:-0800
TZOFFSETTO:-0700
TZNAME:PDT
DTSTART:20230312T100000
END:DAYLIGHT
BEGIN:STANDARD
TZOFFSETFROM:-0700
TZOFFSETTO:-0800
TZNAME:PST
DTSTART:20231105T090000
END:STANDARD
END:VTIMEZONE
BEGIN:VEVENT
DTSTART;TZID=America/Los_Angeles:20220114T093000
DTEND;TZID=America/Los_Angeles:20220114T100000
DTSTAMP:20260421T172618
CREATED:20220111T183149Z
LAST-MODIFIED:20220113T184342Z
UID:10000933-1642152600-1642154400@www.parkdayschool.org
SUMMARY:Fifth Grade Performance
DESCRIPTION:
URL:https://www.parkdayschool.org/event/fifth-grade-performance/
END:VEVENT
BEGIN:VEVENT
DTSTART;VALUE=DATE:20220104
DTEND;VALUE=DATE:20220105
DTSTAMP:20260421T172618
CREATED:20210506T182820Z
LAST-MODIFIED:20211005T095926Z
UID:10001176-1641254400-1641340799@www.parkdayschool.org
SUMMARY:School Resumes
DESCRIPTION:
URL:https://www.parkdayschool.org/event/school-resumes-2/
END:VEVENT
BEGIN:VEVENT
DTSTART;VALUE=DATE:20220103
DTEND;VALUE=DATE:20220104
DTSTAMP:20260421T172618
CREATED:20210506T182819Z
LAST-MODIFIED:20211005T095926Z
UID:10001175-1641168000-1641254399@www.parkdayschool.org
SUMMARY:Professional Development Day- No School\, Camp Available
DESCRIPTION:
URL:https://www.parkdayschool.org/event/professional-development-day-no-school-camp-available-5/
END:VEVENT
BEGIN:VEVENT
DTSTART;VALUE=DATE:20211220
DTEND;VALUE=DATE:20220101
DTSTAMP:20260421T172618
CREATED:20210506T182819Z
LAST-MODIFIED:20211005T095926Z
UID:10001174-1639958400-1640995199@www.parkdayschool.org
SUMMARY:Winter Break\, No School\, No Camp
DESCRIPTION:
URL:https://www.parkdayschool.org/event/winter-break-no-school-no-camp-2/
END:VEVENT
BEGIN:VEVENT
DTSTART;VALUE=DATE:20211217
DTEND;VALUE=DATE:20211218
DTSTAMP:20260421T172618
CREATED:20210506T182819Z
LAST-MODIFIED:20211005T095926Z
UID:10001173-1639699200-1639785599@www.parkdayschool.org
SUMMARY:Last Day before Winter Break (noon release)
DESCRIPTION:
URL:https://www.parkdayschool.org/event/last-day-before-winter-break-noon-release/
END:VEVENT
BEGIN:VEVENT
DTSTART;VALUE=DATE:20211213
DTEND;VALUE=DATE:20211214
DTSTAMP:20260421T172618
CREATED:20210506T182819Z
LAST-MODIFIED:20211005T095925Z
UID:10001172-1639353600-1639439999@www.parkdayschool.org
SUMMARY:Teacher Work Day- No School\, Camp Available
DESCRIPTION:
URL:https://www.parkdayschool.org/event/teacher-work-day-no-school-camp-available-2/
END:VEVENT
BEGIN:VEVENT
DTSTART;TZID=America/Los_Angeles:20211211T100000
DTEND;TZID=America/Los_Angeles:20211211T120000
DTSTAMP:20260421T172618
CREATED:20210624T211330Z
LAST-MODIFIED:20211005T095925Z
UID:10000927-1639216800-1639224000@www.parkdayschool.org
SUMMARY:Admissions Open House
DESCRIPTION:
URL:https://www.parkdayschool.org/event/admissions-open-house-2/
END:VEVENT
BEGIN:VEVENT
DTSTART;VALUE=DATE:20211122
DTEND;VALUE=DATE:20211127
DTSTAMP:20260421T172618
CREATED:20210506T182819Z
LAST-MODIFIED:20211005T095925Z
UID:10001171-1637539200-1637971199@www.parkdayschool.org
SUMMARY:Fall-iday Break- No School\, No Camp
DESCRIPTION:
URL:https://www.parkdayschool.org/event/fall-iday-break-no-school-no-camp/
END:VEVENT
BEGIN:VEVENT
DTSTART;TZID=America/Los_Angeles:20211116T180000
DTEND;TZID=America/Los_Angeles:20211116T193000
DTSTAMP:20260421T172618
CREATED:20210910T055740Z
LAST-MODIFIED:20211005T095925Z
UID:10000930-1637085600-1637091000@www.parkdayschool.org
SUMMARY:Park Day Parent Education with Allison Briscoe-Smith: How to Talk to Your Children About Race
DESCRIPTION:
URL:https://www.parkdayschool.org/event/park-day-parent-education-with-allison-briscoe-smith-how-to-talk-to-your-children-about-race/
END:VEVENT
BEGIN:VEVENT
DTSTART;TZID=America/Los_Angeles:20211113T100000
DTEND;TZID=America/Los_Angeles:20211113T120000
DTSTAMP:20260421T172618
CREATED:20210623T210118Z
LAST-MODIFIED:20211005T095925Z
UID:10000923-1636797600-1636804800@www.parkdayschool.org
SUMMARY:Admissions Open House
DESCRIPTION:
URL:https://www.parkdayschool.org/event/admissions-open-house/
END:VEVENT
BEGIN:VEVENT
DTSTART;VALUE=DATE:20211104
DTEND;VALUE=DATE:20211106
DTSTAMP:20260421T172618
CREATED:20210506T182819Z
LAST-MODIFIED:20211005T095925Z
UID:10001170-1635984000-1636156799@www.parkdayschool.org
SUMMARY:Family-Teacher Conferences- No School\, Camp Available
DESCRIPTION:
URL:https://www.parkdayschool.org/event/family-teacher-conferences-no-school-camp-available-3/
END:VEVENT
BEGIN:VEVENT
DTSTART;TZID=America/Los_Angeles:20211029T130000
DTEND;TZID=America/Los_Angeles:20211029T150000
DTSTAMP:20260421T172618
CREATED:20210815T035816Z
LAST-MODIFIED:20211005T095925Z
UID:10000929-1635512400-1635519600@www.parkdayschool.org
SUMMARY:Halloween Celebration on campus!
DESCRIPTION:
URL:https://www.parkdayschool.org/event/halloween-celebration-on-campus/
END:VEVENT
BEGIN:VEVENT
DTSTART;VALUE=DATE:20211025
DTEND;VALUE=DATE:20211026
DTSTAMP:20260421T172618
CREATED:20210506T182819Z
LAST-MODIFIED:20211005T095925Z
UID:10001169-1635120000-1635206399@www.parkdayschool.org
SUMMARY:Professional Development Day- No School\, Camp Available
DESCRIPTION:
URL:https://www.parkdayschool.org/event/professional-development-day-no-school-camp-available-4/
END:VEVENT
BEGIN:VEVENT
DTSTART;VALUE=DATE:20211022
DTEND;VALUE=DATE:20211023
DTSTAMP:20260421T172618
CREATED:20211001T092909Z
LAST-MODIFIED:20211005T095925Z
UID:10000932-1634860800-1634947199@www.parkdayschool.org
SUMMARY:6th Grade Westminster Woods
DESCRIPTION:
URL:https://www.parkdayschool.org/event/6th-grade-westminster-woods/
END:VEVENT
BEGIN:VEVENT
DTSTART;TZID=America/Los_Angeles:20211016T100000
DTEND;TZID=America/Los_Angeles:20211016T150000
DTSTAMP:20260421T172618
CREATED:20210623T210118Z
LAST-MODIFIED:20211005T095925Z
UID:10000922-1634378400-1634396400@www.parkdayschool.org
SUMMARY:Family Garden Work Party
DESCRIPTION:
URL:https://www.parkdayschool.org/event/family-garden-work-party-2/
END:VEVENT
BEGIN:VEVENT
DTSTART;VALUE=DATE:20211013
DTEND;VALUE=DATE:20211016
DTSTAMP:20260421T172618
CREATED:20210624T211329Z
LAST-MODIFIED:20210815T035813Z
UID:10000924-1634083200-1634342399@www.parkdayschool.org
SUMMARY:NatureBridge Field Trip- 5th Grade
DESCRIPTION:
URL:https://www.parkdayschool.org/event/naturebridge-field-trip-5th-grade/
END:VEVENT
BEGIN:VEVENT
DTSTART;VALUE=DATE:20211011
DTEND;VALUE=DATE:20211012
DTSTAMP:20260421T172618
CREATED:20210506T182818Z
LAST-MODIFIED:20211005T095925Z
UID:10001168-1633910400-1633996799@www.parkdayschool.org
SUMMARY:Indigenous Peoples Day- No School\, No Camp
DESCRIPTION:
URL:https://www.parkdayschool.org/event/indigenous-peoples-day-no-school-no-camp-2/
END:VEVENT
BEGIN:VEVENT
DTSTART;TZID=America/Los_Angeles:20210930T173000
DTEND;TZID=America/Los_Angeles:20210930T190000
DTSTAMP:20260421T172618
CREATED:20210911T061527Z
LAST-MODIFIED:20210930T091807Z
UID:10000931-1633023000-1633028400@www.parkdayschool.org
SUMMARY:Back to School Night- Kindergarten
DESCRIPTION:
URL:https://www.parkdayschool.org/event/back-to-school-night-kindergarten/
END:VEVENT
BEGIN:VEVENT
DTSTART;TZID=America/Los_Angeles:20210923T180000
DTEND;TZID=America/Los_Angeles:20210923T193000
DTSTAMP:20260421T172618
CREATED:20210524T185958Z
LAST-MODIFIED:20210924T075715Z
UID:10001186-1632420000-1632425400@www.parkdayschool.org
SUMMARY:Back to School Night- 3rd\, 4th\, and 5th Grades
DESCRIPTION:
URL:https://www.parkdayschool.org/event/back-to-school-night-3rd-4th-and-5th-grades/
END:VEVENT
BEGIN:VEVENT
DTSTART;TZID=America/Los_Angeles:20210922T180000
DTEND;TZID=America/Los_Angeles:20210922T193000
DTSTAMP:20260421T172618
CREATED:20210524T185958Z
LAST-MODIFIED:20210922T072613Z
UID:10001187-1632333600-1632339000@www.parkdayschool.org
SUMMARY:Back to School Night- 1st and 2nd Grades
DESCRIPTION:
URL:https://www.parkdayschool.org/event/back-to-school-night-k-1st-and-2nd-grades/
END:VEVENT
BEGIN:VEVENT
DTSTART;TZID=America/Los_Angeles:20210922T180000
DTEND;TZID=America/Los_Angeles:20210922T193000
DTSTAMP:20260421T172618
CREATED:20210524T185958Z
LAST-MODIFIED:20210922T072613Z
UID:10001188-1632333600-1632339000@www.parkdayschool.org
SUMMARY:Back to School Night- 6th\, 7th\, and 8th Grades
DESCRIPTION:
URL:https://www.parkdayschool.org/event/back-to-school-night-6th-7th-and-8th-grades/
END:VEVENT
BEGIN:VEVENT
DTSTART;TZID=America/Los_Angeles:20210922T170000
DTEND;TZID=America/Los_Angeles:20210922T180000
DTSTAMP:20260421T172618
CREATED:20210623T210118Z
LAST-MODIFIED:20210922T072612Z
UID:10000921-1632330000-1632333600@www.parkdayschool.org
SUMMARY:High School Placement Meeting
DESCRIPTION:
URL:https://www.parkdayschool.org/event/high-school-placement-meeting/
END:VEVENT
BEGIN:VEVENT
DTSTART;TZID=America/Los_Angeles:20210909T180000
DTEND;TZID=America/Los_Angeles:20210909T190000
DTSTAMP:20260421T172618
CREATED:20210623T210118Z
LAST-MODIFIED:20210910T055738Z
UID:10000920-1631210400-1631214000@www.parkdayschool.org
SUMMARY:Middle School Advisory Orientation
DESCRIPTION:
URL:https://www.parkdayschool.org/event/middle-school-advisory-orientation/
END:VEVENT
BEGIN:VEVENT
DTSTART;VALUE=DATE:20210906
DTEND;VALUE=DATE:20210907
DTSTAMP:20260421T172618
CREATED:20210506T182818Z
LAST-MODIFIED:20210906T051540Z
UID:10001167-1630886400-1630972799@www.parkdayschool.org
SUMMARY:Labor Day- No School\, No Camp
DESCRIPTION:
URL:https://www.parkdayschool.org/event/labor-day-no-school-no-camp/
END:VEVENT
BEGIN:VEVENT
DTSTART;VALUE=DATE:20210901
DTEND;VALUE=DATE:20210902
DTSTAMP:20260421T172618
CREATED:20210506T182818Z
LAST-MODIFIED:20210901T044448Z
UID:10001166-1630454400-1630540799@www.parkdayschool.org
SUMMARY:First Day of School
DESCRIPTION:
URL:https://www.parkdayschool.org/event/first-day-of-school/
END:VEVENT
BEGIN:VEVENT
DTSTART;TZID=America/Los_Angeles:20210828T100000
DTEND;TZID=America/Los_Angeles:20210828T150000
DTSTAMP:20260421T172618
CREATED:20210623T210115Z
LAST-MODIFIED:20210828T042749Z
UID:10000919-1630144800-1630162800@www.parkdayschool.org
SUMMARY:Family Garden Work Party
DESCRIPTION:
URL:https://www.parkdayschool.org/event/family-garden-work-party/
END:VEVENT
BEGIN:VEVENT
DTSTART;TZID=America/Los_Angeles:20210826T163000
DTEND;TZID=America/Los_Angeles:20210826T193000
DTSTAMP:20260421T172618
CREATED:20210506T182818Z
LAST-MODIFIED:20210809T025802Z
UID:10001165-1629995400-1630006200@www.parkdayschool.org
SUMMARY:New Family Orientation & Welcome Dinner
DESCRIPTION:
URL:https://www.parkdayschool.org/event/new-family-orientation-welcome-dinner/
END:VEVENT
BEGIN:VEVENT
DTSTART;TZID=America/Los_Angeles:20210608T140000
DTEND;TZID=America/Los_Angeles:20210608T160000
DTSTAMP:20260421T172618
CREATED:20210506T182818Z
LAST-MODIFIED:20210608T195900Z
UID:10001164-1623160800-1623168000@www.parkdayschool.org
SUMMARY:8th Grade Graduation at 2:00 pm
DESCRIPTION:
URL:https://www.parkdayschool.org/event/8th-grade-graduation-at-200-pm/
END:VEVENT
BEGIN:VEVENT
DTSTART;TZID=America/Los_Angeles:20210608T120000
DTEND;TZID=America/Los_Angeles:20210608T121500
DTSTAMP:20260421T172618
CREATED:20210506T182818Z
LAST-MODIFIED:20210607T195652Z
UID:10001163-1623153600-1623154500@www.parkdayschool.org
SUMMARY:Noon Release
DESCRIPTION:
URL:https://www.parkdayschool.org/event/noon-release/
END:VEVENT
BEGIN:VEVENT
DTSTART;VALUE=DATE:20210608
DTEND;VALUE=DATE:20210609
DTSTAMP:20260421T172618
CREATED:20200807T233857Z
LAST-MODIFIED:20210608T195900Z
UID:10001130-1623110400-1623196799@www.parkdayschool.org
SUMMARY:Last Day of School ( noon release)
DESCRIPTION:
URL:https://www.parkdayschool.org/event/last-day-of-school-release/
END:VEVENT
END:VCALENDAR